BEGIN:VCALENDAR
VERSION:2.0
PRODID:-//National Children's Advocacy Center - ECPv6.15.17//NONSGML v1.0//EN
CALSCALE:GREGORIAN
METHOD:PUBLISH
X-ORIGINAL-URL:https://www.nationalcac.org
X-WR-CALDESC:Events for National Children's Advocacy Center
REFRESH-INTERVAL;VALUE=DURATION:PT1H
X-Robots-Tag:noindex
X-PUBLISHED-TTL:PT1H
BEGIN:VTIMEZONE
TZID:America/Chicago
BEGIN:DAYLIGHT
TZOFFSETFROM:-0600
TZOFFSETTO:-0500
TZNAME:CDT
DTSTART:20230312T080000
END:DAYLIGHT
BEGIN:STANDARD
TZOFFSETFROM:-0500
TZOFFSETTO:-0600
TZNAME:CST
DTSTART:20231105T070000
END:STANDARD
BEGIN:DAYLIGHT
TZOFFSETFROM:-0600
TZOFFSETTO:-0500
TZNAME:CDT
DTSTART:20240310T080000
END:DAYLIGHT
BEGIN:STANDARD
TZOFFSETFROM:-0500
TZOFFSETTO:-0600
TZNAME:CST
DTSTART:20241103T070000
END:STANDARD
BEGIN:DAYLIGHT
TZOFFSETFROM:-0600
TZOFFSETTO:-0500
TZNAME:CDT
DTSTART:20250309T080000
END:DAYLIGHT
BEGIN:STANDARD
TZOFFSETFROM:-0500
TZOFFSETTO:-0600
TZNAME:CST
DTSTART:20251102T070000
END:STANDARD
END:VTIMEZONE
BEGIN:VEVENT
DTSTART;TZID=America/Chicago:20240909T090000
DTEND;TZID=America/Chicago:20240911T160000
DTSTAMP:20260420T074513
CREATED:20231017T190935Z
LAST-MODIFIED:20240912T185143Z
UID:10000018-1725872400-1726070400@www.nationalcac.org
SUMMARY:Supervision of Child Forensic Interviewers
DESCRIPTION:The role of the forensic interviewer within the CAC continues to evolve\, calling for a greater level of competence and skill. Limited opportunities for peer review are no longer sufficient to meet this goal. Long recognized in medicine and mental health\, supervision is an established relationship between a senior practitioner and junior colleague(s) focused on advancing skills in implementing best practices\, supporting resilience\, and increasing sense of professional identity. This training will introduce an array of supervisory principles and approaches. \nThis training is recommended for experienced forensic interviewers wishing to build skills and confidence around providing on-going information sharing\, skill building\, and support of less experienced interviewers.
URL:https://www.nationalcac.org/event/supervision-of-child-forensic-interviewers/
LOCATION:National Children’s Advocacy Center Training Facility\, 210 Pratt Avenue NE\, Training Building\, Huntsville\, AL\, 35801\, United States
CATEGORIES:Supervision
ATTACH;FMTTYPE=image/jpeg:https://www.nationalcac.org/wp-content/uploads/2023/10/action-adult-advice-1120344-scaled.jpg
ORGANIZER;CN="Sydney McDonald":MAILTO:smcdonald@nationalcac.org
END:VEVENT
BEGIN:VEVENT
DTSTART;TZID=America/Chicago:20240930T090000
DTEND;TZID=America/Chicago:20241001T160000
DTSTAMP:20260420T074513
CREATED:20231017T185034Z
LAST-MODIFIED:20240912T185103Z
UID:10000012-1727686800-1727798400@www.nationalcac.org
SUMMARY:Increasing Skill in Forensic Interviewing of Children
DESCRIPTION:Mastering the use of optimal questioning strategies and legally defensible social support requires additional training beyond an initial one-week class. This course deepens interviewers’ understanding of the why and how of effective questioning strategies and the provision of sensitive and targeted social support. Opportunities for practice are provided. \nThis training is highly recommended as the first follow-up training for newer interviewers as well as those who wish to refresh and update their skills.
URL:https://www.nationalcac.org/event/beyond-the-basics-increasing-skill-in-forensic-interviewing-of-children/
LOCATION:Virtual Training
CATEGORIES:Advanced Forensic Interviewing
ATTACH;FMTTYPE=image/jpeg:https://www.nationalcac.org/wp-content/uploads/2023/10/family-therapy-cbt-scaled.jpg
ORGANIZER;CN="Sydney McDonald":MAILTO:smcdonald@nationalcac.org
END:VEVENT
END:VCALENDAR